BEGIN:VCALENDAR
VERSION:2.0
PRODID:-//Ticket Hotline - ECPv6.15.11//NONSGML v1.0//EN
CALSCALE:GREGORIAN
METHOD:PUBLISH
X-ORIGINAL-URL:https://tickethotline.com.au
X-WR-CALDESC:Events for Ticket Hotline
REFRESH-INTERVAL;VALUE=DURATION:PT1H
X-Robots-Tag:noindex
X-PUBLISHED-TTL:PT1H
BEGIN:VTIMEZONE
TZID:Australia/Brisbane
BEGIN:STANDARD
TZOFFSETFROM:+1000
TZOFFSETTO:+1000
TZNAME:AEST
DTSTART:20200101T000000
END:STANDARD
END:VTIMEZONE
BEGIN:VEVENT
DTSTART;TZID=Australia/Brisbane:20210604T200000
DTEND;TZID=Australia/Brisbane:20210604T223000
DTSTAMP:20260422T202502
CREATED:20210315T222822Z
LAST-MODIFIED:20210419T220826Z
UID:20066-1622836800-1622845800@tickethotline.com.au
SUMMARY:MERMAID WATERS - Tribute To The Andrews Sisters - The Pacific Belles Sing\, Swing and get In the Mood.
DESCRIPTION:Inspired by war-time performers The Andrews Sisters\, The Pacific Belles’ unique vintage style vocal trio will take your audience on a trip down memory lane and get everyone jumping & jiving to 1940’s & 50’s classics.  They create vintage an atmosphere for their audience\, with characters\, costumes\, and music. \nThe Pacific Belles are Australia’s hottest retro-style singing trio. Inspired by the music of the 1940‘s\, Betty\, Dot\, and Mabel will take you on a journey back in time to re-live all your favourite classics such as ‘Boogie Woogie’ and ‘Don’t Sit Under the Apple Tree’. \nThe Pacific Belles are regulars on ABC Radio and were honoured to be asked to sing for 774‘s Live broadcast at the Shrine of Remembrance for the last 3 years. They’ve also been heard on the Glen Ridges Radio Show\, Radio Adelaide\, SAFM\, FIVE AA\, the cover of MX\, Frankie Magazine\, and in a Vodka ‘O’ commercial. Their TV appearances include Channel Ten’s ‘The Living Room’ an interview on Channel 31’s ‘Media Strikes Back’ and ‘The Comic Strip’\, Channel TEN Weather with Mike Larkan\, and Channel Nine News where they sang for the Sailors of The USS LASSEN. \n Betty\, Dot\, and Mabel were thrilled to have been asked to represent Australia in The World Championships of Performing Arts. The event took place in LA and they brought back 5 Golds for their country. \nWhen: Friday 4th JUNE 2021\nWhere: ORIANA FUNCTION ROOM: MERMAID WATERS HOTEL Cnr Markeri & Sunshine Blvd Mermaid Waters\, QLD\, 4218\nDoors: 7 pm\nShow Starts: 8 pm\n*** Tickets from JUST $35\, and it’ll be the best $35 you’ll ever spend on a night of great musical memories!\n* FULL BAR\n* PARKING\n* FOOD AVAILABLE (IN RESTAURANT ONLY)\, (Booking Essential with the venue – 07 5572 2500)\n* ACCOMMODATION AVAILABLE (Booking Essential with the venue – 07 5572 2500) \nIMPORTANT NOTE:\nPlease also let us know if you have 4 or more persons in your group as we cannot guarantee that you’ll be seated together if you don’t let us know. \nPlease MAKE SURE that you let us know on your booking\, that way you can be seated together.\n*** ALL TICKETS ARE NON REFUNDABLE\n*** booking fees apply
URL:https://tickethotline.com.au/event/the-andrews-sisters-tribute-show/
LOCATION:Lonestar Tavern\, Oriana Room\,\, Cnr Markeri & Sunshine Blvd\,\, Mermaid Waters\, QLD\, 4218\, Australia
CATEGORIES:Shows
ATTACH;FMTTYPE=image/jpeg:https://tickethotline.com.au/wp-content/uploads/2021/03/Andrew-Sisters-Banner-Updated-800x400-2.jpeg
ORGANIZER;CN="Mark Anthony Events":MAILTO:info@markanthonyevents.com
END:VEVENT
BEGIN:VEVENT
DTSTART;TZID=Australia/Brisbane:20210612T200000
DTEND;TZID=Australia/Brisbane:20210612T223000
DTSTAMP:20260422T202502
CREATED:20210303T015511Z
LAST-MODIFIED:20210606T092304Z
UID:18282-1623528000-1623537000@tickethotline.com.au
SUMMARY:RUNCORN TAVERN - Australia’s Naughtiest Hypnotist is coming back again ... and he’s not alone!
DESCRIPTION:Australia’s Naughtiest Hypnotist Mark Anthony is BACK BY DEMAND… AND this time\, he’s not alone!\nSpecial Guest Appearances By… \nPRICASSO – ‘The Man Who Paints With His Own Style Of Brush!’… and ADULT Comedian MARK McCONVILLE!\nTHREE Entertainers\, One Night\, BOOK NOW!\nTICKETS WILL SELL OUT… DON’T MISS OUT! \nThis will be a night that you won’t forget\, a night FULL of Good\, Clean\, ADULT Fun at the RUNCORN TAVERN!\n\nReal Volunteers REALLY Hypnotised... You’ll Be AMAZED at What They Do Once Hypnotised! \nMark Anthony is Australia’s Most Sought After Hypnotist\, and when you see his show you’ll understand why! \nMark has been traveling the world performing to packed out audiences\, just as he did at RUNCORN TAVERN previously\, and he’s now back… With some very special guests! \nFor ONE NIGHT ONLY Mark will entertain\, hypnotise and mesmerize his audience with his quick wit\, cheeky one-liners\, his naughty humor\, and AMAZING hypnosis skills\, resulting in side-splitting laughter that will have your ribs aching for days… GUARANTEED! \nYou have a choice… either ‘See The Show Or BE The Show’... Mark never forces anybody to come on stage\, he invites them on stage\, Mark then hypnotises his volunteers ‘Live On Stage’ in front of your very eyes\, and then watch as they become ‘outrageously funnier than you could ever imagine’ \nTell your friends\, family and whoever else will listen to you\, it’ll be a night to remember! \nGUARANTEED to be the Best Show You See This Year… Maybe Ever!\n\nWhen: Saturday 12th JUNE 2021\nWhere: RUNCORN TAVERN\,124 Gowan Rd\, Sunnybank Hills QLD 4109\nDoors: 7 pm\nShow Starts: 8 pm\n*** Tickets from JUST $35\, and it’ll be the best $35 you’ll ever spend on a night of ADULT FUN!\n* FULL BAR\n* EASY PARKING\n* FOOD AVAILABLE (Booking Essential with the venue – 07 3345 9622) \nThis event is 18+ – No Prudes Allowed! \nIMPORTANT NOTE:\nPlease also let us know if you have 4 or more persons in your group as we cannot guarantee that you’ll be seated together if you don’t let us know. \nPlease MAKE SURE that you let us know on your booking\, that way you can be seated together. \n*** ALL TICKETS ARE NON REFUNDABLE (unless canceled due to covid\, then all tickets will be transferred to next show) \n*** booking fees apply
URL:https://tickethotline.com.au/event/australias-naughtiest-hypnotist-mark-anthony-is-coming-to-runcorn-tavern/
LOCATION:Runcorn Tavern\, 124 Gowan Rd\, Sunnybank Hills\, Qld\, 4109\, Australia
CATEGORIES:Featured,Shows
ATTACH;FMTTYPE=image/jpeg:https://tickethotline.com.au/wp-content/uploads/2021/03/Screen-Shot-2021-04-01-at-7.21.18-pm.jpg
ORGANIZER;CN="Mark Anthony Events":MAILTO:info@markanthonyevents.com
END:VEVENT
END:VCALENDAR