BEGIN:VCALENDAR
VERSION:2.0
PRODID:-//Ticket Hotline - ECPv6.15.11//NONSGML v1.0//EN
CALSCALE:GREGORIAN
METHOD:PUBLISH
X-ORIGINAL-URL:https://tickethotline.com.au
X-WR-CALDESC:Events for Ticket Hotline
REFRESH-INTERVAL;VALUE=DURATION:PT1H
X-Robots-Tag:noindex
X-PUBLISHED-TTL:PT1H
BEGIN:VTIMEZONE
TZID:Australia/Brisbane
BEGIN:STANDARD
TZOFFSETFROM:+1000
TZOFFSETTO:+1000
TZNAME:AEST
DTSTART:20200101T000000
END:STANDARD
END:VTIMEZONE
BEGIN:VEVENT
DTSTART;TZID=Australia/Brisbane:20210501T183000
DTEND;TZID=Australia/Brisbane:20210501T220000
DTSTAMP:20260421T011204
CREATED:20210416T003837Z
LAST-MODIFIED:20210605T104556Z
UID:22494-1619893800-1619906400@tickethotline.com.au
SUMMARY:POSTPONED UNTIL FRIDAY 12TH AUGUST - LONESTAR TAVERN - Bad Boys Australia Male Review Show Are Coming... Are You!
DESCRIPTION:Badboys is coming to Mermaid Waters Hotel\, Gold Coast\nThe best ladies entertainment  Badboys The Show\,  hens – bachelorette – girls nights \nThe Badboys just got even sexier…introducing \nThe all-exclusive girls night out brought to you by Badboys Australia \nLook no further than Badboys Australia for your next special occasion\, with their latest production Badboys 4 Life Tour. Their new show takes you on a journey where every emotion explodes into a night of excitement\, titillation\, and exploration of the male form. The Badboys specialise in fulfilling every girl’s fantasy and desire with style\, ensuring every moment is everlasting. A night with the Badboys is a night to never be forgotten. \nAttending male strip shows have become the new fad and Badboys Australia is undeniably one of Australia’s most successful and famous Male revues. Having traveled extensively through the US\, Canada\, Asia\, and of course Australia\, Badboys have become more than just a household name in the ladies’ entertainment industry. \nTake a moment to envision yourself at your special night out. You’re with your closest friends waiting for the magic that’s about to unfold right before your eyes. As the music builds\, so does your excitement whilst the lights are stimulating and there’s smoke drifting on the stage and your nervously waiting for our Badboys to enter the stage\, #GDFR It’s. About. To. Go. Down. \nFor all the girls celebrating a Bachelorette Party\, Hens Party\, Birthday Party\, or just a Girls Night Out\, then Badboys Australia promises to be an incredible night of sexiness\, giggles\, and crowd interaction\, with a focus on high-energy\, sophisticated entertainment. \nIt’s an interactive show that is specifically designed to make every lady feel special and indulge their senses. \nEvery girl loves a Bad Boy.\nTickets:\nPlatinum VIP includes: \nEarly entry to the show.\nBadboys The Show.\nFirst tier front row seating to the stage.\nPhoto opportunity after the show with your phone.\nYour special guest on stage guaranteed. \nBadboys Australia after party meet and greet. \nGold VIP includes:\nBadboys The Show.\nSecond-tier seating to the stage.\nPaid photo opportunity after show with your phone.\nBadboys Australia after party meet and greet. \nBronze General Admission includes:\nBadboys The Show.\nThird-tier seating to the stage.\nPaid photo opportunity after show with your phone. \nBadboys Australia after party meet and greet. \nGeneral Admission:\nBadboys The Show\nStanding and High bar upon availability\nPaid photo opportunity after show with your phone.\nBadboys Australia after party meet and greet. \nShowtimes:\nPlatinum VIP entry at 6:30pm\nGeneral doors 7pm\nShowtime 8pm – 10pm includes a short interval
URL:https://tickethotline.com.au/event/mermaid-waters-bad-boys-australia-male-review-show-are-coming-are-you/
LOCATION:Lonestar Tavern\, Oriana Room\,\, Cnr Markeri & Sunshine Blvd\,\, Mermaid Waters\, QLD\, 4218\, Australia
CATEGORIES:Featured,Shows
ATTACH;FMTTYPE=image/jpeg:https://tickethotline.com.au/wp-content/uploads/2021/04/Badboys-Australia-Ticket-Hotline-Banner.jpg
ORGANIZER;CN="Mark Anthony Events":MAILTO:info@markanthonyevents.com
END:VEVENT
BEGIN:VEVENT
DTSTART;TZID=Australia/Brisbane:20210528T200000
DTEND;TZID=Australia/Brisbane:20210528T223000
DTSTAMP:20260421T011204
CREATED:20210401T092645Z
LAST-MODIFIED:20210524T014944Z
UID:22386-1622232000-1622241000@tickethotline.com.au
SUMMARY:MERMAID WATERS - Australia's Naughtiest Hypnotist and Special Guests Are Back By Popular Demand!
DESCRIPTION:He’s Naughty… He’s Nice… He’s Australia’s Naughtiest Hypnotist Mark Anthony! Guest Appearances By PRICASSO and a new Adult Comedian Steve Allison!\n\n\n\n\n\nAustralia’s Naughtiest Hypnotist Mark Anthony is BACK BY DEMAND… AND once again\, he’s not alone!\n\n\nSpecial Guest Appearances By…\nPRICASSO – ‘The Man Who Paints With His Own Style Of Brush!’… and a brand new ADULT Comedian Steve Allison\nTHREE Entertainers\, One Night\, BOOK NOW!\nIf you missed out last time\, TICKETS SELL FAST… DON’T MISS OUT this time! \nThis will be a night that you won’t forget\, a night FULL of Good\, Clean\, ADULT Fun on the GOLD COAST? \nReal Volunteers REALLY Hypnotised... You’ll Be AMAZED at What They Do Once Hypnotised! \nMark Anthony is Australia’s Most Sought After Hypnotist\, and when you see his show you’ll understand why! \nMark has been traveling the world performing to packed out audiences and once again is now back in his hometown on the Gold Coast!\nFor ONE NIGHT ONLY Mark will entertain\, hypnotise and mesmerize his audience with his quick wit\, cheeky one-liners\, his naughty humor\, and AMAZING hypnosis skills\, resulting in side-splitting laughter that will have your ribs aching for days… GUARANTEED! \nYou have a choice… either ‘See The Show Or BE The Show’... Mark never forces anybody to come on stage\, he invites them on stage\, Mark then hypnotises his volunteers ‘Live On Stage’ in front of your very eyes\, and then watch as they become ‘outrageously funnier than you could ever imagine’ \nTell your friends\, family and whoever else will listen to you\, it’ll be a night to remember!\nGUARANTEED to be the Best Show You See This Year… Maybe Ever!\n\nWhen: Friday 28th MAY 2021\nWhere: ORIANA FUNCTION ROOM: MERMAID WATERS HOTEL Cnr Markeri & Sunshine Blvd Mermaid Waters\, QLD\, 4218\nDoors: 7 pm\nShow Starts: 8 pm\n*** Tickets from JUST $35\, and it’ll be the best $35 you’ll ever spend on a night of ADULT FUN!\n* FULL BAR\n* PARKING\n* FOOD AVAILABLE (IN RESTAURANT ONLY)\, (Booking Essential with the venue – 07 5572 2500)\n* ACCOMMODATION AVAILABLE (Booking Essential with the venue – 07 5572 2500)\nThis event is 18+ – No Prudes Allowed! \nIMPORTANT NOTE:\nPlease also let us know if you have 4 or more persons in your group as we cannot guarantee that you’ll be seated together if you don’t let us know. \nPlease MAKE SURE that you let us know on your booking\, that way you can be seated together. \n*** ALL TICKETS ARE NON REFUNDABLE\n*** booking fees apply
URL:https://tickethotline.com.au/event/australias-naughtiest-hypnotist-and-special-guests-are-back-by-popular-demand/
LOCATION:Lonestar Tavern\, Oriana Room\,\, Cnr Markeri & Sunshine Blvd\,\, Mermaid Waters\, QLD\, 4218\, Australia
CATEGORIES:Featured,Shows
ATTACH;FMTTYPE=image/jpeg:https://tickethotline.com.au/wp-content/uploads/2021/04/REDLANDS-Hypnaughty-Banner-800x400-26-June-2021-1.jpeg
END:VEVENT
END:VCALENDAR