BEGIN:VCALENDAR
VERSION:2.0
PRODID:-//Ticket Hotline - ECPv6.15.11//NONSGML v1.0//EN
CALSCALE:GREGORIAN
METHOD:PUBLISH
X-WR-CALNAME:Ticket Hotline
X-ORIGINAL-URL:https://tickethotline.com.au
X-WR-CALDESC:Events for Ticket Hotline
REFRESH-INTERVAL;VALUE=DURATION:PT1H
X-Robots-Tag:noindex
X-PUBLISHED-TTL:PT1H
BEGIN:VTIMEZONE
TZID:Australia/Brisbane
BEGIN:STANDARD
TZOFFSETFROM:+1000
TZOFFSETTO:+1000
TZNAME:AEST
DTSTART:20200101T000000
END:STANDARD
END:VTIMEZONE
BEGIN:VEVENT
DTSTART;TZID=Australia/Brisbane:20211105T200000
DTEND;TZID=Australia/Brisbane:20211105T220000
DTSTAMP:20260423T163410
CREATED:20211002T231209Z
LAST-MODIFIED:20211104T200451Z
UID:24905-1636142400-1636149600@tickethotline.com.au
SUMMARY:Adults Only\, Comedy Ventriloquist Darren Carr Coming To The Gold Coast!
DESCRIPTION:WARNING!!! \nThis is NOT your average comedy show! \nAustralia’s #1 Comedy Ventriloquist Darren Carr and A trunkload of the most perverted\, non-PC\, puppets \, a few hapless helpers from the audience\, and one huge… but VERY talented… misfit in the middle trying to control it all. \nThis will be the most fun you’ve had\, with your clothes on\, in a long while! \nMark Anthony Events presents… \nMULTI AWARD WINNING SHOW IN QLD FOR THE FIRST TIME!\nIMPORTANT! – (IN A GROUP? – GROUP BOOKINGS MUST STATE HOW MANY AND WHO IS IN YOUR GROUP\, OTHERWISE TABLES ARE FIRST COME FIRST SERVED). \nWHEN: FRIDAY 5th November 2021\nDOORS: 7:00pm\nSHOW: 8:00 pm\nWHERE: Oriana Room\, Lonestar Tavern\, Mermaid Waters\nMarkeri St &\, Sunshine Blvd\, Mermaid Waters QLD 4218 \nSHOW TICKETS: *\nAdults from just $35 \nDON’T MISS OUT THIS TIME – BOOK YOUR TICKETS NOW! \nTickets: www.TicketHotline.com.au \nIMPORTANT! – (IN A GROUP? – GROUP BOOKINGS MUST STATE HOW MANY AND WHO IS IN YOUR GROUP\, OTHERWISE TABLES ARE FIRST COME FIRST SERVED). \n* PARKING\n* FOOD AVAILABLE (IN RESTAURANT ONLY)\, (Booking Essential with the venue – 07 5572 2500)\n* ACCOMMODATION AVAILABLE (Booking Essential with the venue – 07 5572 2500)\nThis is a MA 15+ night\, no babies\, no toddlers\, no excuses for not booking your babysitter now\, and joining us for a night of ADULT ONLY VENTRILOQUIST SHOW! 🙂 \nSTRICTLY… NO PRUDES PLEASE! 🙂 \nIMPORTANT! – (IN A GROUP? – GROUP BOOKINGS MUST STATE HOW MANY AND WHO IS IN YOUR GROUP\, OTHERWISE TABLES ARE FIRST COME FIRST SERVED). \n  \n*** Tickets Are Non Refundable\, however they are transferrable to the next show if we get locked down due to covid related issues. \n*** booking fees apply
URL:https://tickethotline.com.au/event/24905/
LOCATION:Lonestar Tavern\, Oriana Room\,\, Cnr Markeri & Sunshine Blvd\,\, Mermaid Waters\, QLD\, 4218\, Australia
CATEGORIES:Featured,Shows
ATTACH;FMTTYPE=image/jpeg:https://tickethotline.com.au/wp-content/uploads/2021/10/Darren-Carr.jpeg
ORGANIZER;CN="Mark Anthony Events":MAILTO:info@markanthonyevents.com
END:VEVENT
BEGIN:VEVENT
DTSTART;TZID=Australia/Brisbane:20211123T193000
DTEND;TZID=Australia/Brisbane:20211123T220000
DTSTAMP:20260423T163410
CREATED:20211106T045629Z
LAST-MODIFIED:20211124T093528Z
UID:25192-1637695800-1637704800@tickethotline.com.au
SUMMARY:Drag Queen Bingo Back By Demand\, Gold Coast\, Thursday 25th November!
DESCRIPTION:Mark Anthony Events presents… Drag Queen Bingo Is Back on Thursday 25th November… Don’t Miss Out This Time… Book Early!\nThe NAUGHTIEST BUT NICEST Prizes In Any Drag Queen Bingo Show!\nIMPORTANT! – (IN A GROUP? – GROUP BOOKINGS MUST STATE HOW MANY AND WHO IS IN YOUR GROUP\, OTHERWISE TABLES ARE FIRST COME FIRST SERVED). \nDress Up If Only If You Choose To Night… let’s see what other ideas you have in your dress-up box! – Prizes for best dressed! \nQ. Do we have to dress in a costume to come along?\nA. No\, dress as you please\, however\, those who do will be entered into the Best Dressed competition. \nThis is always a night of FUN and FROLICS… DRAG QUEEN BINGO at its best! \nA night filled with lots of ADULT laughs\, and as we all know… laughter is always the greatest medicine! \nA night filled with lots of glamour\, as your wonderfully outrageous bingo host and Drag Queen Vollie LaVont takes you on a bingo journey like never before! \nThis night is not only an evening of bingo\, cash prizes\, Naughty and Nice prizes\, it’s also a night of shows\, fun\, and cheekiness with DRAG QUEEN BINGO! \nThis is a party you won’t want to miss\, a party where Vollie and her friends will hit the Gold Coast for the first time at Mermaid Waters… DON’T MISS OUT! \nJust $25 gets you 5 games of bingo\, and the chance to WIN CASH\, NAUGHTY\, and NICE PRIZES\, and ENJOY a night like nothing else… GUARANTEED! 🙂 \n* Photo with the Queen\n* Best dressed competition\n* Raffles\n* Prizes galore\n* Show me the money… CASH PRIZES! \n\nWHEN: THURSDAY 25th NOVEMBER 2021\nDOORS: 7:00pm\nBALLS DROP: 7:30pm – 10:00pm\nWHERE: Oriana Room\, Lonestar Tavern\, Mermaid Waters\nMarkeri St &\, Sunshine Blvd\, Mermaid Waters QLD 4218\n\n\n\nSHOW TICKETS: *\nAdults just $25\n\n\n\nDON’T MISS OUT THIS TIME – BOOK YOUR TICKETS NOW!\nIMPORTANT! – (IN A GROUP? – GROUP BOOKINGS MUST STATE HOW MANY AND WHO IS IN YOUR GROUP\, OTHERWISE TABLES ARE FIRST COME FIRST SERVED). \n\n\n\n\nTICKETS: www.TicketHotline.com.au \n\n\n\n* PARKING\n* FOOD AVAILABLE (IN RESTAURANT ONLY)\, (Booking Essential with the venue – 07 5572 2500)\n* ACCOMMODATION AVAILABLE (Booking Essential with the venue – 07 5572 2500)\n\n\n\nThis is a MA 15+ night\, no babies\, no toddlers\, no excuses for not booking your babysitter now\, and joining us for a night of ADULT ONLY BINGO! 🙂 \nSTRICTLY… NO PRUDES PLEASE! 🙂\nIMPORTANT! – (IN A GROUP? – GROUP BOOKINGS MUST STATE HOW MANY AND WHO IS IN YOUR GROUP\, OTHERWISE TABLES ARE FIRST COME FIRST SERVED). \n\n\n\n\n*** Tickets are only transferrable to the next show if we get locked down due to covid related issues. \n\n\n\n*** booking fees apply
URL:https://tickethotline.com.au/event/drag-queen-bingo-back-by-demand-gold-coast-thursday-25th-november/
LOCATION:Lonestar Tavern\, Oriana Room\,\, Cnr Markeri & Sunshine Blvd\,\, Mermaid Waters\, QLD\, 4218\, Australia
CATEGORIES:Featured,Shows
ATTACH;FMTTYPE=image/png:https://tickethotline.com.au/wp-content/uploads/2021/11/Untitled-design-34.png
ORGANIZER;CN="Mark Anthony Events":MAILTO:info@markanthonyevents.com
END:VEVENT
BEGIN:VEVENT
DTSTART;TZID=Australia/Brisbane:20211203T200000
DTEND;TZID=Australia/Brisbane:20211203T223000
DTSTAMP:20260423T163410
CREATED:20211106T042700Z
LAST-MODIFIED:20211117T022143Z
UID:25181-1638561600-1638570600@tickethotline.com.au
SUMMARY:Adults Only Hypnosis Show\, Gold Coast\, Friday December 3
DESCRIPTION:He’s Naughty… He’s Nice… He’s Australia’s Naughtiest Hypnotist Mark Anthony!\nGuest Appearance By PRICASSO! \nAustralia’s Naughtiest Hypnotist Mark Anthony is BACK BY DEMAND… AND once again\, he’s not alone! \nSpecial Guest Appearance By… \nPRICASSO – ‘The Man Who Paints With His Own Style Of Brush!’ \nTWO Entertainers\, One Night\, BOOK NOW! \nIf you missed out last time\, TICKETS SELL FAST… DON’T MISS OUT this time! \nThis will be a night that you won’t forget\, a night FULL of Good\, Clean\, ADULT Fun on the GOLD COAST? \nReal Volunteers REALLY Hypnotised… You’ll Be AMAZED at What They Do Once Hypnotised! \nMark Anthony is Australia’s Most Sought After Hypnotist\, and when you see his show you’ll understand why! \nMark has been traveling the world performing to packed out audiences and once again is now back in his hometown on the Gold Coast! \nFor ONE NIGHT ONLY Mark will entertain\, hypnotise and mesmerize his audience with his quick wit\, cheeky one-liners\, his naughty humor\, and AMAZING hypnosis skills\, resulting in side-splitting laughter that will have your ribs aching for days… GUARANTEED! \nYou have a choice… either ‘See The Show Or BE The Show’… Mark never forces anybody to come on stage\, he invites them on stage\, Mark then hypnotises his volunteers ‘Live On Stage’ in front of your very eyes\, and then watch as they become ‘outrageously funnier than you could ever imagine’ \nTell your friends\, family and whoever else will listen to you\, it’ll be a night to remember! \nGUARANTEED to be the Best Show You See This Year… Maybe Ever! \nWhen: Friday 3rd DECEMBER 2021 \nWhere: ORIANA FUNCTION ROOM: LONESTAR TAVERN Cnr Markeri & Sunshine Blvd Mermaid Waters\, QLD\, 4218 \nDoors: 7 pm \nShow Starts: 8 pm \n*** Tickets from JUST $35\, and it’ll be the best $35 you’ll ever spend on a night of ADULT FUN! \n* FULL BAR \n* PARKING \n* FOOD AVAILABLE (IN RESTAURANT ONLY)\, (Booking Essential with the venue – 07 5572 2500) \n* ACCOMMODATION AVAILABLE (Booking Essential with the venue – 07 5572 2500) \nThis event is 18+ – No Prudes Allowed! \nIMPORTANT NOTE: \nPlease also let us know if you have 4 or more persons in your group as we cannot guarantee that you’ll be seated together if you don’t let us know. \nPlease MAKE SURE that you let us know on your booking\, that way you can be seated together. \n*** REFUND POLICY\nTickets will be be transferred to another show date if the show is canceled due to potential covid issues.\nIf a show is postponed or canceled due to covid issues with distancing and masks\, certain shows may be moved to another future date. \n*** booking fees apply
URL:https://tickethotline.com.au/event/adults-only-hypnosis-show-gold-coast-friday-december-3/
LOCATION:Lonestar Tavern\, Oriana Room\,\, Cnr Markeri & Sunshine Blvd\,\, Mermaid Waters\, QLD\, 4218\, Australia
CATEGORIES:Featured,Shows
ATTACH;FMTTYPE=image/png:https://tickethotline.com.au/wp-content/uploads/2021/11/DECEMBER-10-3.png
ORGANIZER;CN="Mark Anthony Events":MAILTO:info@markanthonyevents.com
END:VEVENT
BEGIN:VEVENT
DTSTART;TZID=Australia/Brisbane:20220206T100000
DTEND;TZID=Australia/Brisbane:20220206T180000
DTSTAMP:20260423T163410
CREATED:20220102T084924Z
LAST-MODIFIED:20220102T090047Z
UID:25400-1644141600-1644170400@tickethotline.com.au
SUMMARY:Learn Self Hypnosis - GOLD COAST - ADDITIONAL DATE\, Sunday 6th FEBRUARY!
DESCRIPTION:CHANGE YOUR LIFE – LEARN SELF HYPNOSIS!\nOne of Australia’s Leading Hypnotists Mark Anthony will be your trainer for this ‘life changing’ day. \nThis course is ideal for anybody ages 11 years and up\, so bring your children\, your friends\, loved ones and work colleagues!\n\nWE HAVE HAD TO ADD AN ADDITIONAL DATE DUE TO FAST SELL OUT OF LAST COURSE – THIS COURSE WILL ALSO SELL OUT… DON’T MISS OUT – BOOK NOW! \nWHEN: ADDITIONAL DATE: Sunday FEBRUARY 6th 2022 \nWHERE: Function Room\, 1 Fairway Dr\, Clear Island Waters QLD 4226 \nTIME: 10am-6pm If you are unable to commit to the whole day PLEASE DO NOT COME as you’ll miss lots of great stuff!… However\, if you are able to\, we look forward to seeing you there! 🙂 \nYOUR TRAINER: Hypnotist Mark Anthony \nYOUR TINY INVESTMENT: (usually $499) Special New Years Offer\, Just $75\nIN JUST ONE DAY LEARN HOW TO: \n1. Sleep More Peacefully \n2. Increase Self Esteem \n3. Improve Memory \n4. Clear Unwanted Emotions \n5. Clear Inner Self Talk (monkey chatter) \n6. Reduce Stress Levels \n7. Establish A Strong Connection With The Subconscious Mind \n8. Achieve Dreams and Goals \n9. Get Rid Of Bad Habits \n10. Get Motivated and Feel Empowered \n11. Pain Relief \n12. Hypnotise Yourself and Others \n13. Stop Smoking \n14. Lose Weight \n15. Much more! \nHypnosis Is A Naturally Occurring Mind/Body State\, That When Used Purposely With The Acquired Knowledge Of The Workings Of The Mind\, It Can Create Lasting Positive Effects\, It Can Also Create Positive Change In How People Respond To Each Other. \nTraining with the Mark Anthony Hypnosis Academy you’re in safe hands. Mark has traveled the globe performing his Stage Hypnosis Shows\, he has hypnotised hundreds of thousands of people over the past 18 years as a full time Hypnotist\, both on stage\, and in his Hypnosis Clinic on the Gold Coast. \nAlthough Mark’s style isn’t for everybody\, due to him being very unconventional and straight talking compared to some other hypnotists who will wrap you in cotton wool and pussy foot around you\, he gets results\, and that’s what his clients want\, as we’re sure that’s what you want! \nMany many hundreds of clients over the last 18 years have been to see Mark for all types of issues and problems including Stop Smoking\, Weight Loss\, Confidence\, Fears\, Phobias\, Anxiety\, Stress\, Empowerment and much more\, and now in this one day Self Hypnosis Course\, Mark will teach you how to help yourself and others too. \nMore Info: www.LearnSelfHypnosis.com.au \nLIMITED SPACES – Reserving Your Seat Essential!
URL:https://tickethotline.com.au/event/learn-self-hypnosis-gold-coast-additional-date-sunday-6th-february/
LOCATION:Function Room\, Surfers Paradise Golf Club\, Gold Coast\, 1 Fairway Dr\, Clear Island Waters\, Queensland\, 4226\, Australia
CATEGORIES:Featured,MAHA Course,Shows
ATTACH;FMTTYPE=image/png:https://tickethotline.com.au/wp-content/uploads/2022/01/more-info-www.LearnSelfHypnosis.com_.au-13.png
ORGANIZER;CN="Mark Anthony Hypnosis Academy":MAILTO:markanthonyhypnotist@gmail.com
END:VEVENT
BEGIN:VEVENT
DTSTART;TZID=Australia/Brisbane:20260307T200000
DTEND;TZID=Australia/Brisbane:20260307T220000
DTSTAMP:20260423T163410
CREATED:20260212T082014Z
LAST-MODIFIED:20260212T082511Z
UID:25622-1772913600-1772920800@tickethotline.com.au
SUMMARY:HERVEY BAY\, He's Naughty\, He's Nice\, He's Coming To Your Town!
DESCRIPTION:He’s coming to KONDARI HOTEL (function room)\, for ONE NIGHT ONLY\, with his night of Good\, Clean\, Adult Hypnosis Fun for those who missed out previously\, and those who want to see him again! \nHe’s Naughty\, He’s Nice\, He’s Hypnotist Mark Anthony… Don’t miss out on this show! \nIf you’ve seen him before\, see him again\, if you haven’t seen him before\, SEE HIM\, all shows are different\, due to different volunteers who have different personalities! \nThis will be a night that you won’t forget\, with no filth\, no stripping\, just a night of Good\, Clean\, ADULT Fun at the KONDARI HOTEL (function room). \nReal Volunteers REALLY Hypnotised… You’ll Be AMAZED at What They Do Once they’re Hypnotised! \nMark Anthony is one of Australia’s Most Sought After Hypnotists\, and when you see his show you’ll understand why! \nFor ONE NIGHT ONLY Mark will entertain\, hypnotise and mesmerize his audience with his quick wit\, cheeky one-liners\, his naughty humor\, and AMAZING hypnosis skills\, resulting in side-splitting laughter that will have your ribs aching for days… GUARANTEED! \nYou have a choice… either ‘See The Show Or BE The Show’… Mark never forces anybody to come on stage\, he invites them on stage\, Mark then hypnotises his volunteers ‘Live On Stage’ in front of your very eyes\, and then watch as they become ‘outrageously funnier than you could ever imagine!’ \nTell your friends\, family and whoever else will listen to you\, it’ll be a night to remember! \nGUARANTEED to be the Best Show You See This Year… Maybe Ever! \nWhen: SATURDAY 7th March 2026 \nWhere: KONDARI Hotel (function room)\, 49-63 Elizabeth St\, Urangan QLD 4655 \nDoors: 7:00 pm \nShow Starts: 8:00 pm \n*** Tickets from just $37.50\, and it’ll be the best $37.50 you’ll ever spend on a night of ADULT FUN! \n* FULL BAR \n* EASY PARKING \n* FOOD AVAILABLE (ONLY IN RESTAURANT – Booking Essential with the venue (allow plenty of time to eat prior to show) – (07) 4125 5477 \nThis event is for 18+ (however\, there’s no stripping or filth\, so 16+ would also be ok) – No Prudes Allowed! \nIMPORTANT NOTE FOR GROUPS OF 4 OR MORE IN THE FIRST FOUR ROWS ONLY: \nPlease also let us know if you have 4 or more persons in your group as we cannot guarantee that you’ll be seated together if you don’t let us know. \nPlease MAKE SURE that you let us know about your booking\, that way you can be seated together. \n*** booking fees apply
URL:https://tickethotline.com.au/event/hervey-bay-hes-naughty-hes-nice-hes-coming-to-your-town/
LOCATION:Kondari Hotel\, Hervey Bay\, 49-63 Elizabeth St\, Urangan\, Qld\, 4655\, Australia
CATEGORIES:Featured,Shows
ATTACH;FMTTYPE=image/jpeg:https://tickethotline.com.au/wp-content/uploads/2026/02/Kondari-Hotel.jpeg
ORGANIZER;CN="Mark Anthony Events":MAILTO:info@markanthonyevents.com
END:VEVENT
BEGIN:VEVENT
DTSTART;TZID=Australia/Brisbane:20260509T200000
DTEND;TZID=Australia/Brisbane:20260509T220000
DTSTAMP:20260423T163410
CREATED:20260212T085323Z
LAST-MODIFIED:20260408T214047Z
UID:25637-1778356800-1778364000@tickethotline.com.au
SUMMARY:Gold Coast\, Bundall\, The Gold Coast Tavern\, Adults Only Hypnosis Fun!
DESCRIPTION:Gold Coast\, Bundall\, He’s Naughty. He’s Nice. He’s Back! \nAustralia’s most sought-after hypnotist Mark Anthony returns to the Gold Coast for ONE NIGHT ONLY at the Gold Coast Tavern (private function room)! \nWhen: Saturday 9th MAY 2026\nTix: Tickets from just $37.50*\nWhere: The Gold Coast Tavern (function room)\, 150 Bundall Rd\, Bundall QLD 4217\nTime: Doors 7PM | Show 8PM\nAges 18+ (16+ okay – no filth\, no stripping\, just cheeky\, clean adult fun) \nSELL-OUT SHOWS – ALWAYS GUARANTEE LOTS OF LAUGHS! \nWhether you’ve seen him before or it’s your first time – every show is totally different with new volunteers\, different personalities and fresh hilarious adult only fun. \nReal volunteers. Really hypnotised. \nSide-splitting laughs. Cheeky one-liners. Unforgettable moments. \nSee the show – or BE the show! \nFull bar.\nEasy parking.\nMeals available at the restaurant – call venue to book: (07) 5500 0214 \nBooking with 4+ people? (only applies to FRONT ROW seats) \nLet us know to sit you together! \nDON’T MISS OUT. \nTickets are limited. \nBook now before it sells out again!
URL:https://tickethotline.com.au/event/gold-coast-bundall-the-gold-coast-tavern-adults-only-hypnosis-fun/
LOCATION:The Gold Coast Tavern\, 150 Bundall Rd\, Bundall\, QLD\, 4217\, Australia
CATEGORIES:Featured,Shows
ATTACH;FMTTYPE=image/png:https://tickethotline.com.au/wp-content/uploads/2026/02/Hypnotist_Mark_Anthony_GCTavern_Show.png
ORGANIZER;CN="Mark Anthony Events":MAILTO:info@markanthonyevents.com
END:VEVENT
BEGIN:VEVENT
DTSTART;TZID=Australia/Brisbane:20260515T200000
DTEND;TZID=Australia/Brisbane:20260515T220000
DTSTAMP:20260423T163410
CREATED:20260316T083727Z
LAST-MODIFIED:20260409T000120Z
UID:25692-1778875200-1778882400@tickethotline.com.au
SUMMARY:RUNCORN - A Night Of Good\, Clean\, Adult Hypnosis Fun at The Runcorn Tavern
DESCRIPTION:Australia’s Naughtiest Hypnotist Mark Anthony is Back at the RUNCORN TAVERN!\nDON’T MISS OUT! \nIf you’ve seen him before\, see him again\, all shows are different\, due to different volunteers who have different personalities! \nNew sketches to spice up the night\, another night that you won’t forget\, no filth\, no stripping\, just a night of Good\, Clean\, Adult Hypnosis Fun at the RUNCORN TAVERN! \nReal Volunteers REALLY Hypnotised… You’ll Be AMAZED at What They Do Once Hypnotised! \nMark Anthony is Australia’s Most Sought After Hypnotist\, and when you see his show you’ll understand why! \nMark has been traveling the world performing to packed-out audiences\, just as he did at RUNCORN TAVERN previously\, and he’s now back! \nFor ONE NIGHT ONLY Mark will entertain\, hypnotise and mesmerize his audience with his quick wit\, cheeky one-liners\, his naughty humor\, and AMAZING hypnosis skills\, resulting in side-splitting laughter that will have your ribs aching for days… GUARANTEED! \nYou have a choice… either ‘See The Show Or BE The Show’… Mark never forces anybody to come on stage\, he invites them on stage\, Mark then hypnotises his volunteers ‘Live On Stage’ in front of your very eyes\, and then watch as they become ‘outrageously funnier than you could ever imagine’ \nTell your friends\, family and whoever else will listen to you\, it’ll be a night to remember! \nGUARANTEED to be the Best Show You See This Year… Maybe Ever! \nWhen: Friday 15th MAY \nWhere: RUNCORN TAVERN\,124 Gowan Rd\, Sunnybank Hills QLD 4109 \nDoors: 7 pm Show Starts: at 8 pm \n*** Tickets from just $35\, and it’ll be the best $35 you’ll ever spend on a night of ADULT FUN! \n* FULL BAR\n* EASY PARKING\n* FOOD AVAILABLE (ONLY IN RESTAURANT – Booking Essential with the venue (allow plenty of time to eat prior to show) – 07 3345 9622) \nThis event is 18+ – No Prudes Allowed! (however\, there is no stripping and no filth\, so 16+ will be fine) \nIMPORTANT NOTE: (THIS APPLIES TO FRONT ROW TICKET HOLDERS ONLY) \nPlease also let us know if you have 4 or more persons in your group as we cannot guarantee that you’ll be seated together if you don’t let us know. \nPlease MAKE SURE that you let us know on your booking\, that way you can be seated together. \n*** TICKETS ARE NON REFUNDABLE (if the show is canceled due to covid\, all tickets will be transferred to a future show) \n*** booking fees apply
URL:https://tickethotline.com.au/event/runcorn-a-night-of-good-clean-adult-hypnosis-fun-at-the-runcorn-tavern/
LOCATION:Runcorn Tavern\, 124 Gowan Rd\, Sunnybank Hills\, Qld\, 4109\, Australia
CATEGORIES:Featured,Shows
ATTACH;FMTTYPE=image/png:https://tickethotline.com.au/wp-content/uploads/2026/03/hypnaughty1_runcorn_1700x800.png
ORGANIZER;CN="Mark Anthony Events":MAILTO:info@markanthonyevents.com
END:VEVENT
BEGIN:VEVENT
DTSTART;TZID=Australia/Brisbane:20260919T183000
DTEND;TZID=Australia/Brisbane:20260919T200000
DTSTAMP:20260423T163410
CREATED:20260204T034243Z
LAST-MODIFIED:20260408T213518Z
UID:25604-1789842600-1789848000@tickethotline.com.au
SUMMARY:MUDGEERABA\, GOLD COAST\, FAMILY FUN HYPNOSIS SHOW!
DESCRIPTION:Join Australia’s much-loved hypnotist Mark Anthony for a night of Family Hypnosis Fun! \n\n\n\nFAMILY FUN HYPNOSIS SHOW – ONE NIGHT ONLY! \nAustralia’s Nicest Hypnotist is Back! \nFun. Friendly. Fascinating. \nJoin Australia’s much-loved hypnotist Mark Anthony for a family-friendly\, laugh-out-loud hypnosis show that’s perfect for parents\, teens\, grandparents—and anyone who loves a great night out! \nMark hasn’t performed a Family Show for a few years\, so DON’T MISS OUT! \nThis is a fun\, positive\, interactive ‘Family’ show that amazes audiences with ‘Real People\, REALLY Hypnotised’. \nEVENT DETAILS\nWhen: Saturday 19th SEPTEMBER 2026\nDoors Open: 5:30 PM\nShow Time: 6:30 PM\nWhere: Mudgeeraba Town Hall\n62 – 64 Railway Street\, Mudgeeraba\, Queensland 4213\nTickets: From just $20.00*\nAges: Family Friendly – ideal for the whole family\, children\, parents and grandparents \nWHAT TO EXPECT\nReal volunteers. Really hypnotised.\nBig laughs\, amazing moments\, and audience participation. \nEvery show is different – new volunteers\, new surprises\, every time. \nWhether you’re watching the show… or brave enough to be part of it… this is a night your family will be talking about long after the show finishes. \nSoft drinks available at bar\nEasy parking\nMeals available at local restaurants\, or eat before you come \nComing with family or friends.\n(4+ people) in the ‘First Three Rows Close To Stage)? \nLet us know when booking and we’ll do our best to seat you together\nRemember: (this is for front row bookings only). \nDON’T MISS OUT! \nMark Anthony’s shows regularly sell out\, and tickets are limited. \nA perfect Saturday night out for the whole family — fun\, laughter\, and home at a sensible hour. \nBook now before it sells out!
URL:https://tickethotline.com.au/event/mudgeeraba-gold-coast-school-holidays-family-fun-hypnosis-show/
LOCATION:Mudgeeraba Hall\, 62 - 64 Railway Street\,\, Mudgeeraba\, Queensland\, 4213\, Australia
CATEGORIES:Featured,Shows
ATTACH;FMTTYPE=image/png:https://tickethotline.com.au/wp-content/uploads/2026/02/Mudgeeraba-New_Show_Date-1.png
ORGANIZER;CN="Mark Anthony":MAILTO:info@markanthonyevents.com
END:VEVENT
END:VCALENDAR