BEGIN:VCALENDAR
VERSION:2.0
PRODID:-//Ticket Hotline - ECPv6.15.11//NONSGML v1.0//EN
CALSCALE:GREGORIAN
METHOD:PUBLISH
X-ORIGINAL-URL:https://tickethotline.com.au
X-WR-CALDESC:Events for Ticket Hotline
REFRESH-INTERVAL;VALUE=DURATION:PT1H
X-Robots-Tag:noindex
X-PUBLISHED-TTL:PT1H
BEGIN:VTIMEZONE
TZID:Australia/Brisbane
BEGIN:STANDARD
TZOFFSETFROM:+1000
TZOFFSETTO:+1000
TZNAME:AEST
DTSTART:20200101T000000
END:STANDARD
END:VTIMEZONE
BEGIN:VEVENT
DTSTART;TZID=Australia/Brisbane:20210801T193000
DTEND;TZID=Australia/Brisbane:20210801T223000
DTSTAMP:20260425T084659
CREATED:20210615T095017Z
LAST-MODIFIED:20210811T015030Z
UID:23784-1627846200-1627857000@tickethotline.com.au
SUMMARY:Money for Nothin – Dire Straits Tribute Show
DESCRIPTION:“Money for Nothin is a world-class tribute to one of the world’s most popular bands from the 70’s and 80’s – Dire Straits. The musicality and attention to detail has made this show a must-see for any rock enthusiast\, guitar lover or Dire Straits fan!” \n“Fronting the band is Terry McMahon – with extensive experience in the Australian music scene\, Terry recreates the famous Mark Knopfler guitar technique and vocal with an uncanny likeness. Playing all the riffs and solos exactly as they were played originally and recreating the signature tone of those famous guitar riffs and solos has been his quest for a long time\, and it shows! The band features top-class musicians\, each with their own unique musical skills and experience to make this band sound just like Dire Straits.” \n“The band performs all the big hits including Sultans of Swing\, Romeo\, and Juliet\, Walk of Life\, Lady Writer\, Your Latest Trick\, Tunnel of Love\, Money for Nothing\, and many more. \nDire Straits fans will be also be delighted by the inclusion of some early songs from the first two albums that are rarely covered.” \n“Money for Nothin is a memorable tribute experience and audiences can’t help but sing along with the memorable songs that are part of rock history. Top quality lighting and sound production enhance the experience\, and the show has had excellent reviews from the clubs\, pubs and private venues it has performed in.” \n“Dire Straits sold over 120 million albums and were an international smash hit\, launching the MTV era with Money for Nothing – the first song ever played on MTV. They won four Grammys and numerous other awards\, and were inducted into the Rock N Roll Hall of Fame in 2018.” \n“Don’t miss out – come along and see for yourself!”
URL:https://tickethotline.com.au/event/money-for-nothin-dire-straits-tribute-show/
LOCATION:Oriana Room\, Lonestar Tavern\, Mermaid Waters\, Markeri St and Sunshine Blvd\, Mermaid Waters\, Queensland\, 4218\, Australia
CATEGORIES:Shows
ATTACH;FMTTYPE=image/jpeg:https://tickethotline.com.au/wp-content/uploads/2021/06/196803719_521981462317607_9155555977775717183_n.jpg
END:VEVENT
END:VCALENDAR