BEGIN:VCALENDAR
VERSION:2.0
PRODID:-//Ticket Hotline - ECPv6.15.11//NONSGML v1.0//EN
CALSCALE:GREGORIAN
METHOD:PUBLISH
X-WR-CALNAME:Ticket Hotline
X-ORIGINAL-URL:https://tickethotline.com.au
X-WR-CALDESC:Events for Ticket Hotline
REFRESH-INTERVAL;VALUE=DURATION:PT1H
X-Robots-Tag:noindex
X-PUBLISHED-TTL:PT1H
BEGIN:VTIMEZONE
TZID:Australia/Brisbane
BEGIN:STANDARD
TZOFFSETFROM:+1000
TZOFFSETTO:+1000
TZNAME:AEST
DTSTART:20200101T000000
END:STANDARD
END:VTIMEZONE
BEGIN:VEVENT
DTSTART;TZID=Australia/Brisbane:20210516T120000
DTEND;TZID=Australia/Brisbane:20210516T143000
DTSTAMP:20260425T061734
CREATED:20210124T015936Z
LAST-MODIFIED:20210502T222151Z
UID:914-1621166400-1621175400@tickethotline.com.au
SUMMARY:BUNDALL - Stop Smoking Now\, and Live A Smoke Free Life!
DESCRIPTION:Do you want to Stop Smoking… now? \n\n\n\n\nBOOK NOW for my upcoming Stop Smoking Seminar. \n\n\n\n\nI have helped ‘many hundreds’ of smokers become Happy Non-Smokers… and I can help you! \n\n\n\nYour tiny investment in your smokefree life is just $397 (usually $499)\n\n\n\nIMAGINE… 2021 and onwards as a Happy Non-Smoker\, and take back YOUR LIFE\, YOUR HEALTH\, YOUR TIME! \n\n\n\n\nIF YOU AREN’T A SMOKER\, OR IF YOU DON’T SMOKE\, PLEASE FORWARD THIS LINK TO SOMEBODY ON THE GOLD COAST WHO IS… YOU MIGHT BE SAVING THEIR LIFE!\n\n\n\nBook your seat now\, small-group seminar.\nwww.HappyNonSmoker.com.au\n\n\n\nThere is no doubt that the ‘Simply Easy‘ Method is for you.\n\n\n\nIt is backed by a 100{595c42a21a4c7cda182fa52b3ded843b95fb9255474bb346dbd34481853d713c} Money Back Guarantee\, has proven to be successful for all types of smokers\, and is one of the most affordable stop-smoking methods available today. At ‘just $397‘ (usually $499) this very tiny investment in your future health and smoke-free life will certainly gain you a much more financial profit – and give you back something money can’t buy\, and that’s your health. \n  \n\n\n\nTESTIMONIALS\n\nHi\, Mark Firstly I would like to say THANK YOU I have not felt so good in like forever! I have QUIT smoking for good!!! I have had a number of potential “excuses” to take up the nasty habit again but I didn’t! It was SO EASY to quit smoking as I have tried to quit before to no avail but now I can say I AM A HAPPY JOYOUS NON SMOKER!!!! Thank you Andrew F \n\n\n\n\n\nHi Mark\, Thanks for the email\, just wanted to let you know that I will not be attending another as both my girlfriend and myself haven’t had a smoke since we walked out the door of your Stop Smoking seminar. Thanks again\, it was money well spent. Jarrad\, Gold Coast \n\n\n\n\n\nIMPORTANT: YOUR results are based on YOUR commitment to the seminar\, and the simple instructions that you follow. We know the system works – You know whether you will follow it or not. \n\nBook your seat now\, small-group seminar.\nwww.HappyNonSmoker.com.au
URL:https://tickethotline.com.au/event/stop-smoking-now/
LOCATION:Mark Anthony Hypnotist\, 31c Crombie Avenue\, Bundall\, Qld\, 4217\, Australia
CATEGORIES:Featured,Stop Smoking Seminar
ATTACH;FMTTYPE=image/jpeg:https://tickethotline.com.au/wp-content/uploads/2021/01/Happy-Non-Smoker-Banner-1.jpg
END:VEVENT
END:VCALENDAR