BEGIN:VCALENDAR
VERSION:2.0
PRODID:-//Ticket Hotline - ECPv6.15.11//NONSGML v1.0//EN
CALSCALE:GREGORIAN
METHOD:PUBLISH
X-WR-CALNAME:Ticket Hotline
X-ORIGINAL-URL:https://tickethotline.com.au
X-WR-CALDESC:Events for Ticket Hotline
REFRESH-INTERVAL;VALUE=DURATION:PT1H
X-Robots-Tag:noindex
X-PUBLISHED-TTL:PT1H
BEGIN:VTIMEZONE
TZID:Australia/Brisbane
BEGIN:STANDARD
TZOFFSETFROM:+1000
TZOFFSETTO:+1000
TZNAME:AEST
DTSTART:20210101T000000
END:STANDARD
END:VTIMEZONE
BEGIN:VEVENT
DTSTART;TZID=Australia/Brisbane:20220102T130000
DTEND;TZID=Australia/Brisbane:20220102T163000
DTSTAMP:20260424T101507
CREATED:20211213T230627Z
LAST-MODIFIED:20211214T064623Z
UID:25356-1641128400-1641141000@tickethotline.com.au
SUMMARY:Stop Smoking Gold Coast - New Years Resolution Sunday 2nd or 9th January 2022 - Hundreds Helped Already!
DESCRIPTION:Gold Coast –  Stop Smoking – Hundreds Helped Already – Sunday 2nd or 9th January 2022 at 1 pm – $499 New Years Resolution offer just $197 (This seminar only)!\nAre you going to make it your New Years Resolution to Stop Smoking?\nSome will find it very easy\, and some won’t!\nIf you need help to Stop Smoking\, I have a New Years Resolution Stop Smoking offer for those who might need a little help… just $197! \nAre you sick and tired of being sick and tired? \nWant to Stop Smoking NOW? \nMark Anthony is one of Australia’s Leading Hypnotists\, he’s helped hundreds of people to Stop Smoking using his ‘Simply Easy‘ Method. Whether this is your first time at becoming a Happy Non-Smoker\, or you have tried just about every method under the sun and spent thousands on giving up smoking… There is no doubt that the ‘Simply Easy‘ Method is for you. \nIt is backed by a 100{595c42a21a4c7cda182fa52b3ded843b95fb9255474bb346dbd34481853d713c} Lifetime Guarantee* (conditions apply)\, has proven to be successful for all types of smokers\, and is one of the most affordable stop smoking methods available today. At ‘just $499‘ $297 (New Years Resolution Special Offer\, this seminar only)\, this very tiny investment in your future health will certainly gain you a much more financial profit – and give you back something money can’t buy\, and that’s your health and your time. \nMore information: www.HappyNonSmoker.com.au \nIMPORTANT!\nVery limited spaces\, only 4 spaces available… Bookings essential! \nTESTIMONIALS \nHi Mark Firstly I would like to say THANK YOU I have not felt so good in like forever! I have QUIT smoking for good!!! I have had a number of potential “excuses” to take up the nasty habit again but I didn’t! It was SO EASY to quit smoking as I have tried to quit before to no avail but now I can say I AM A HAPPY JOYOUS NON SMOKER!!!! Thank you Andrew F  \nHi Mark\, Thanks for the email\, just wanted to let you know that I will not be attending another as both my girlfriend and myself haven’t had a smoke since we walked out the door of your Stop Smoking seminar. Thanks again\, it was money well spent. Jarrad\, Gold Coast  \n*IMPORTANT: YOUR results are based on YOUR commitment to the seminar\, and the simple instructions that follow. We know the system works\, it’s worked for MANY HUNDREDS of other smokers\, who are now Happy Non-Smokers – You know whether you will follow simple instructions or not\, if you won’t\, then don’t come along.
URL:https://tickethotline.com.au/event/stop-smoking-gold-coast-new-years-resolution-hundreds-helped-already/
LOCATION:Mark Anthony Hypnotist\, Our Wellness Centre\, 31c Crombie Avenue\, Bundall\, Queensland\, 4217\, Australia
CATEGORIES:Featured,Stop Smoking Seminar
ATTACH;FMTTYPE=image/jpeg:https://tickethotline.com.au/wp-content/uploads/2021/12/SimplyEasy-Stop-Smoking-Banner.jpeg
ORGANIZER;CN="Mark Anthony Events":MAILTO:info@markanthonyevents.com
END:VEVENT
END:VCALENDAR