BEGIN:VCALENDAR
VERSION:2.0
PRODID:-//Ticket Hotline - ECPv6.15.11//NONSGML v1.0//EN
CALSCALE:GREGORIAN
METHOD:PUBLISH
X-WR-CALNAME:Ticket Hotline
X-ORIGINAL-URL:https://tickethotline.com.au
X-WR-CALDESC:Events for Ticket Hotline
REFRESH-INTERVAL;VALUE=DURATION:PT1H
X-Robots-Tag:noindex
X-PUBLISHED-TTL:PT1H
BEGIN:VTIMEZONE
TZID:Australia/Brisbane
BEGIN:STANDARD
TZOFFSETFROM:+1000
TZOFFSETTO:+1000
TZNAME:AEST
DTSTART:20200101T000000
END:STANDARD
END:VTIMEZONE
BEGIN:VEVENT
DTSTART;TZID=Australia/Brisbane:20210513T193000
DTEND;TZID=Australia/Brisbane:20210513T220000
DTSTAMP:20260425T215618
CREATED:20210316T061015Z
LAST-MODIFIED:20210517T235043Z
UID:20128-1620934200-1620943200@tickethotline.com.au
SUMMARY:Mermaid Waters - Drag Queen Bingo Is Back By POPULAR DEMAND!
DESCRIPTION:Drag Queen Bingo Is Back By Popular Demand Due To Its Overwhelming Success… Don’t Miss Out This Time! 🙂 \nThis night is going to be THEMED NIGHT… Prizes for best dressed!  \nQ. Do we have to dress in a costume to come along?\nA. No\, dress as you please\, however\, those who do will be entered into the Best Dressed competition. \nThis is going to be another night of FUN and FROLICS… DRAG QUEEN BINGO at its best! \nA night filled with lots of laughs\, and laughter is always the greatest medicine! \nA night with lots of glamour\, as your wonderfully outrageous bingo host and Drag Queen Vollie LaVont takes you on a bingo journey like never before! \nThis night is not only an evening of bingo\, cash prizes\, Naughty and Nice prizes\, it’s also a night of shows\, fun\, and cheekiness with DRAG QUEEN BINGO! \nThis is a party you won’t want to miss\, a party where Vollie and her friends will hit the Gold Coast for the first time at Mermaid Waters… DON’T MISS OUT! \nJust $25 gets you 5 games of bingo\, and the chance to WIN CASH\, NAUGHTY\, and NICE PRIZES\, and ENJOY a night like nothing else… GUARANTEED! 🙂 \n* Photo with the Queen\n* Best dressed competition\n* Raffles\n* Prizes galore\n* Show me the money… CASH PRIZES! \nThis is a MA 15+ night\, no babies\, no toddlers\, no excuses for not booking your babysitter now\, and joining us for a night of ADULT BINGO! 🙂 \nSTRICTLY… NO PRUDES PLEASE! 🙂
URL:https://tickethotline.com.au/event/drag-queen-bingo-is-here/
LOCATION:Lonestar Tavern\, Oriana Room\,\, Cnr Markeri & Sunshine Blvd\,\, Mermaid Waters\, QLD\, 4218\, Australia
CATEGORIES:Featured,Shows
ATTACH;FMTTYPE=image/jpeg:https://tickethotline.com.au/wp-content/uploads/2021/03/Vollie-Bingo-Banner-Updated-800x400-1.jpeg
ORGANIZER;CN="Mark Anthony Events":MAILTO:info@markanthonyevents.com
END:VEVENT
END:VCALENDAR